BEGIN:VCALENDAR
VERSION:2.0
PRODID:-//ChamberMaster//Event Calendar 2.0//EN
METHOD:PUBLISH
X-PUBLISHED-TTL:P3D
REFRESH-INTERVAL:P3D
CALSCALE:GREGORIAN
BEGIN:VEVENT
DTSTART:20100409T003000Z
DTEND:20100409T023000Z
X-MICROSOFT-CDO-ALLDAYEVENT:FALSE
SUMMARY:The Boys Next Door
DESCRIPTION:A touching comedy following residents of a group home and their increasingly burned out case worker.
X-ALT-DESC;FMTTYPE=text/html:A touching comedy following residents of a group home and their increasingly burned out case worker.
LOCATION:Beatrice Community Players
UID:e.41.1692
SEQUENCE:3
DTSTAMP:20260425T135230Z
URL:https://business.beatricechamber.com/events/details/the-boys-next-door-04-08-2010-1692
END:VEVENT

END:VCALENDAR
