BEGIN:VCALENDAR
VERSION:2.0
PRODID:-//ChamberMaster//Event Calendar 2.0//EN
METHOD:PUBLISH
X-PUBLISHED-TTL:P3D
REFRESH-INTERVAL:P3D
CALSCALE:GREGORIAN
BEGIN:VEVENT
DTSTART:20120414T153000Z
DTEND:20120414T170000Z
X-MICROSOFT-CDO-ALLDAYEVENT:FALSE
SUMMARY:"The Edwardian Lady on the ERA of Elegant Fashion of those who boarded the Titan
DESCRIPTION:"The Edwardian Lady on the ERA of Elegant Fashion of those who boarded the Titanic 100 years ago\n\nCentenary Women will hold annual "Tables with Fashion" at 9 am.\, Brunch tickets\, $18 available in advance only until April 9.
X-ALT-DESC;FMTTYPE=text/html:&quot\;The Edwardian Lady on the ERA of Elegant Fashion of those who boarded the Titanic 100 years ago<br />\nCentenary Women will hold annual &quot\;Tables with Fashion&quot\; at 9 am.\, Brunch tickets\, $18 available in advance only until April 9.
LOCATION:Classic's Restaurant\, 1301 Oak St.\, Beatrice
UID:e.41.5467
SEQUENCE:3
DTSTAMP:20260422T155256Z
URL:https://business.beatricechamber.com/events/details/the-edwardian-lady-on-the-era-of-elegant-fashion-of-those-who-boarded-the-titan-04-14-2012-5467
END:VEVENT

END:VCALENDAR
