BEGIN:VCALENDAR
VERSION:2.0
PRODID:-//ChamberMaster//Event Calendar 2.0//EN
METHOD:PUBLISH
X-PUBLISHED-TTL:P3D
REFRESH-INTERVAL:P3D
CALSCALE:GREGORIAN
BEGIN:VEVENT
DTSTART;VALUE=DATE:20101111
DTEND;VALUE=DATE:20101114
TRANSP:TRANSPARENT
X-MICROSOFT-CDO-ALLDAYEVENT:TRUE
SUMMARY:The Flower Shop Open House
DESCRIPTION:Holiday Open House: The Flower Shop- Indian Creek Mall\n\n\n\nGo Green for The Holidays\n\n\n\nHoliday Open House November 11th-13th\n\n\n\nShop our holiday store and enjoy giveaways & Refreshments\n\n\n\n20% off storewide!
X-ALT-DESC;FMTTYPE=text/html:<strong><span style="font-size: 14px">Holiday Open House: The Flower Shop- Indian Creek Mall</span></strong><br />\n<br />\nGo Green for The Holidays<br />\n<br />\nHoliday Open House November 11th-13th<br />\n<br />\nShop our holiday store and enjoy giveaways &amp\; Refreshments<br />\n<br />\n20% off storewide!<br />\n<br />\n<br />\n<br />\n
LOCATION:
UID:e.41.2822
SEQUENCE:3
DTSTAMP:20260425T032932Z
URL:https://business.beatricechamber.com/events/details/the-flower-shop-open-house-11-11-2010-2822
END:VEVENT

END:VCALENDAR
