BEGIN:VCALENDAR
VERSION:2.0
PRODID:-//ChamberMaster//Event Calendar 2.0//EN
METHOD:PUBLISH
X-PUBLISHED-TTL:P3D
REFRESH-INTERVAL:P3D
CALSCALE:GREGORIAN
BEGIN:VEVENT
DTSTART:20120226T190000Z
DTEND:20120226T200000Z
X-MICROSOFT-CDO-ALLDAYEVENT:FALSE
SUMMARY:The History of African Americans on the Great Plains
DESCRIPTION:In honor of African American History Month\, Homestead National Monument of America will offer a special program on Sunday\, February 26\, 2012 at 1 p.m. at the Monument's Education Center about the history of African Americans on the Great Plains. Join Author and University of Nebraska-Lincoln Professor Charles Braithwaite as he discusses the historic role African Americans played in shaping the Great Plains.\n\n	Until recently\, histories largely ignored or omitted African Americans from the narrative of the West and the expansion of the United States.Dr. Braithwaite will discuss the rich and varied experiences of African Americans on the frontier.Dr. Charles Braithwaite is the Editor of the Great Plains Quarterly and a Fellow at the Center for Great Plains Studies\, Fellow in the Department of Anthropology and Senior Lecturer in the Department of Communication Studies at the University of Nebraska-Lincoln.In addition\, Dr. Braithwaite edited the 2009 book African Americans on the Great Plains.
X-ALT-DESC;FMTTYPE=text/html:<p>\n	<span>In honor of African American History Month\, Homestead National Monument of America will offer a special program on Sunday\, February 26\, 2012 at 1 p.m. at the Monument&#39\;s Education Center about the history of African Americans on the Great Plains. Join Author and University of Nebraska-Lincoln Professor Charles Braithwaite as he discusses the historic role African Americans played in shaping the Great Plains.</span></p>\n<p>\n	<span>Until recently\, histories largely ignored or omitted African Americans from the narrative of the West and the expansion of the United States.Dr. Braithwaite will discuss the rich and varied experiences of African Americans on the frontier.</span><span>Dr. Charles Braithwaite is the Editor of the Great Plains Quarterly and a Fellow at the Center for Great Plains Studies\, Fellow in the Department of Anthropology and Senior Lecturer in the Department of Communication Studies at the University of Nebraska-Lincoln.In addition\, Dr. Braithwaite edited the 2009 book <em>African Americans on the Great Plains</em>.</span></p>\n
LOCATION:Homestead National Monument of America's Education Center
UID:e.41.5342
SEQUENCE:3
DTSTAMP:20260422T185815Z
URL:https://business.beatricechamber.com/events/details/the-history-of-african-americans-on-the-great-plains-02-26-2012-5342
END:VEVENT

END:VCALENDAR
