BEGIN:VCALENDAR
VERSION:2.0
PRODID:-//ChamberMaster//Event Calendar 2.0//EN
METHOD:PUBLISH
X-PUBLISHED-TTL:P3D
REFRESH-INTERVAL:P3D
CALSCALE:GREGORIAN
BEGIN:VEVENT
DTSTART;VALUE=DATE:20110911
DTEND;VALUE=DATE:20110917
TRANSP:TRANSPARENT
X-MICROSOFT-CDO-ALLDAYEVENT:TRUE
SUMMARY:The Kensington Celebrates National Assisted Living Week
DESCRIPTION:The Kensington is celebrating National Assisted Living Week!\n\n\n\nPlease join us for these very special activities -\n\nSunday\, September 11\, 2-4 pm: Indoor Family Carnival\n\nMonday\, September 12\, 10 am: National Guard Flag Presentation\n\nTuesday\, September 13\, 1:30 pm: Invitational Community BINGO\n\nWednesday\, September 14\, 10 am: Pin-ups & Heart Throbs\; 2 pm: Helicopter Rides!\n\nThursday\, September 15\, 10 am: Community Coffee\; 3:30 pm: Chapel\; 6 pm: Plane Rides!\n\nFriday\, September 16: SPA DAY!\; 5-7 pm: Assisted Living Progressive Dinner\; 7-9 pm: USO Dance!\n\n\n\nPlus All American Food - each day featuring cuisine froma different part of the country!\n\n\n\nThe Kensington\n\n105 N 6th Street\n\nBeatrice\, NE  68310\n\n(402)228-2000\n\nkensington-evergreen.com/beatrice\n\nFind us on Facebook
X-ALT-DESC;FMTTYPE=text/html:The Kensington is celebrating National Assisted Living Week!<br />\n<br />\nPlease join us for these very special activities -<br />\nSunday\, September 11\, 2-4 pm: Indoor Family Carnival<br />\nMonday\, September 12\, 10 am: National Guard Flag Presentation<br />\nTuesday\, September 13\, 1:30 pm: Invitational Community BINGO<br />\nWednesday\, September 14\, 10 am: Pin-ups &amp\; Heart Throbs\; 2 pm: Helicopter Rides!<br />\nThursday\, September 15\, 10 am: Community Coffee\; 3:30 pm: Chapel\; 6 pm: Plane Rides!<br />\nFriday\, September 16: SPA DAY!\; 5-7 pm: Assisted Living Progressive Dinner\; 7-9 pm: USO Dance!<br />\n<br />\nPlus All American Food - each day featuring cuisine froma different part of the country!<br />\n<br />\nThe Kensington<br />\n105 N 6th Street<br />\nBeatrice\, NE&nbsp\; 68310<br />\n(402)228-2000<br />\nkensington-evergreen.com/beatrice<br />\nFind us on Facebook
LOCATION:
UID:e.41.5108
SEQUENCE:3
DTSTAMP:20260424T123354Z
URL:https://business.beatricechamber.com/events/details/the-kensington-celebrates-national-assisted-living-week-09-11-2011-5108
END:VEVENT

END:VCALENDAR
