BEGIN:VCALENDAR
VERSION:2.0
PRODID:-//ChamberMaster//Event Calendar 2.0//EN
METHOD:PUBLISH
X-PUBLISHED-TTL:P3D
REFRESH-INTERVAL:P3D
CALSCALE:GREGORIAN
BEGIN:VEVENT
DTSTART:20101114T020000Z
DTEND:20101114T063000Z
X-MICROSOFT-CDO-ALLDAYEVENT:FALSE
SUMMARY:The Lil' Slim Blues Band
DESCRIPTION:The Lil' Slim Blues Band is the hottest blues band around!! Lil' Slim is the son of legendary Magic Slim\, Morris Holt and he is da Future of da Blues!!! This is definitely a show that you don't want to miss!!!
X-ALT-DESC;FMTTYPE=text/html:The Lil' Slim Blues Band is the hottest blues band around!! Lil' Slim is the son of legendary Magic Slim\, Morris Holt and he is da Future of da Blues!!! This is definitely a show that you don't want to miss!!!
LOCATION:The Rail 212 Court Street\, Beatrice\, NE
UID:e.41.2380
SEQUENCE:3
DTSTAMP:20260425T032836Z
URL:https://business.beatricechamber.com/events/details/the-lil-slim-blues-band-11-13-2010-2380
END:VEVENT

END:VCALENDAR
