BEGIN:VCALENDAR
VERSION:2.0
PRODID:-//ChamberMaster//Event Calendar 2.0//EN
METHOD:PUBLISH
X-PUBLISHED-TTL:P3D
REFRESH-INTERVAL:P3D
CALSCALE:GREGORIAN
BEGIN:VEVENT
DTSTART;VALUE=DATE:20101221
DTEND;VALUE=DATE:20101222
TRANSP:TRANSPARENT
X-MICROSOFT-CDO-ALLDAYEVENT:TRUE
SUMMARY:The Palladium Brass
DESCRIPTION:Come celebrate Christmas with a blast!\n\n\n\nThe Palladium Brass presents a concert of Holiday Brass Music\n\n\n\nat St. John Lutheran Church December 21st at 7:30 p.m.\n\n\n\nTickets:  $15 adults\, $12 seniors\, and $8 for students.  Tickets are available at Beatrice IGA\, St. John Lutheran Church & on the Thompson Music website at www.thompsonmusic.com
X-ALT-DESC;FMTTYPE=text/html:Come celebrate&nbsp\;Christmas with a blast!<br />\n<br />\nThe Palladium Brass presents a concert of Holiday Brass Music<br />\n<br />\nat St. John Lutheran Church December 21st at 7:30 p.m.<br />\n<br />\nTickets:&nbsp\; $15 adults\, $12 seniors\, and $8 for students.&nbsp\; Tickets are available at Beatrice IGA\, St. John Lutheran Church &amp\; on the Thompson Music website at <a href="http://www.thompsonmusic.com">www.thompsonmusic.com</a>
LOCATION:
UID:e.41.2934
SEQUENCE:3
DTSTAMP:20260425T014159Z
URL:https://business.beatricechamber.com/events/details/the-palladium-brass-12-21-2010-2934
END:VEVENT

END:VCALENDAR
