BEGIN:VCALENDAR
VERSION:2.0
PRODID:-//ChamberMaster//Event Calendar 2.0//EN
METHOD:PUBLISH
X-PUBLISHED-TTL:P3D
REFRESH-INTERVAL:P3D
CALSCALE:GREGORIAN
BEGIN:VEVENT
DTSTART:20101211T010000Z
DTEND:20101211T010000Z
X-MICROSOFT-CDO-ALLDAYEVENT:FALSE
SUMMARY:" The Plight Brfore Christmas"
DESCRIPTION:SCC theatre students performance of " The Plight Before Christmas":\n\n\n\n7 p.m.\, Truman Center Stage\, Beatrice Campus. A melodrama with music with music based on characters from Charles Dickens' "A Christmas Carol." Admission: $5\, general public. SCC students and staff admitted free. Reception follows the performance.
X-ALT-DESC;FMTTYPE=text/html:<strong><span style="font-size: 14px\;">SCC theatre students performance of &quot\; The Plight Before Christmas&quot\;:</span></strong><br />\n<br />\n7 p.m.\, Truman Center Stage\, Beatrice Campus. A melodrama with music with music based on characters from Charles Dickens&#39\; &quot\;A Christmas Carol.&quot\; Admission: $5\, general public. SCC students and staff admitted free. Reception follows the performance.<br />\n
LOCATION:
UID:e.41.2903
SEQUENCE:3
DTSTAMP:20260425T014134Z
URL:https://business.beatricechamber.com/events/details/the-plight-brfore-christmas-12-10-2010-2903
END:VEVENT

END:VCALENDAR
