BEGIN:VCALENDAR
VERSION:2.0
PRODID:-//ChamberMaster//Event Calendar 2.0//EN
METHOD:PUBLISH
X-PUBLISHED-TTL:P3D
REFRESH-INTERVAL:P3D
CALSCALE:GREGORIAN
BEGIN:VEVENT
DTSTART;VALUE=DATE:20110423
DTEND;VALUE=DATE:20110424
TRANSP:TRANSPARENT
X-MICROSOFT-CDO-ALLDAYEVENT:TRUE
SUMMARY:"The Receptionist" Special Performance
DESCRIPTION:Special Performance of "The Receptionist"\n\n\n\nCommunity Players Theatre\, 412 Ella Street\n\nBeatrice\n\n\n\nApril 23\n\n7:30 pm\n\n\n\nShow received the "Outstanding Show" award at the Nebraska Association of Community Theaters One-Act Festival\; qualified to participate in the American Association of Community Theater Regional One-Act Festival.\n\n\n\nTickets: $10 at the door beginning 30 minutes prior to performance.  No advance reservations.\n\n402-228-1801\n\nwww.beatricecommunityplayers.com
X-ALT-DESC;FMTTYPE=text/html:Special Performance of &quot\;The Receptionist&quot\;<br />\n<br />\nCommunity Players Theatre\, 412 Ella Street<br />\nBeatrice<br />\n<br />\nApril 23<br />\n7:30 pm<br />\n<br />\nShow received the &quot\;Outstanding Show&quot\; award at the Nebraska Association of Community Theaters One-Act Festival\; qualified to participate in the American Association of Community Theater Regional One-Act Festival.<br />\n<br />\nTickets: $10 at the door beginning 30 minutes prior to performance.&nbsp\; No advance reservations.<br />\n402-228-1801<br />\nwww.beatricecommunityplayers.com<br />\n
LOCATION:
UID:e.41.4596
SEQUENCE:3
DTSTAMP:20260424T194953Z
URL:https://business.beatricechamber.com/events/details/the-receptionist-special-performance-04-23-2011-4596
END:VEVENT

END:VCALENDAR
