BEGIN:VCALENDAR
VERSION:2.0
PRODID:-//ChamberMaster//Event Calendar 2.0//EN
METHOD:PUBLISH
X-PUBLISHED-TTL:P3D
REFRESH-INTERVAL:P3D
CALSCALE:GREGORIAN
BEGIN:VEVENT
DTSTART;VALUE=DATE:20120211
DTEND;VALUE=DATE:20120213
TRANSP:TRANSPARENT
X-MICROSOFT-CDO-ALLDAYEVENT:TRUE
SUMMARY:"The Unforgiven (NR)" - Hollywood and Homesteading
DESCRIPTION:"The Unforgiven (NR)" - Hollywood and Homesteading\n\n\n\nSaturday\, February 11 pm\n\n\n\nSunday\, February 12 pm\n\n\n\nHomestead National Monument of America's Education Center\n\nFilm is not rated.\n\n\n\nAll films in this festival feature the homesteading story in their plot or storyline.  No cost\; tickets are not needed to attend.\n\n\n\n402-223-3514 or visit http://www.nps.gov/home/index.htm.
X-ALT-DESC;FMTTYPE=text/html:&quot\;The Unforgiven&nbsp\;(NR)&quot\; - Hollywood and Homesteading<br />\n<br />\nSaturday\, February 11 pm<br />\n<br />\nSunday\, February 12 pm<br />\n<br />\nHomestead National Monument of America&#39\;s Education Center<br />\nFilm is not rated.<br />\n<br />\nAll films in this festival feature the homesteading story in their plot or storyline.&nbsp\; No cost\; tickets are not needed to attend.<br />\n<br />\n402-223-3514 or visit http://www.nps.gov/home/index.htm.<br />\n
LOCATION:
UID:e.41.5304
SEQUENCE:3
DTSTAMP:20260422T185736Z
URL:https://business.beatricechamber.com/events/details/the-unforgiven-nr-hollywood-and-homesteading-02-11-2012-5304
END:VEVENT

END:VCALENDAR
