BEGIN:VCALENDAR
VERSION:2.0
PRODID:-//ChamberMaster//Event Calendar 2.0//EN
METHOD:PUBLISH
X-PUBLISHED-TTL:P3D
REFRESH-INTERVAL:P3D
CALSCALE:GREGORIAN
BEGIN:VEVENT
DTSTART:20120505T190000Z
DTEND:20120505T210000Z
X-MICROSOFT-CDO-ALLDAYEVENT:FALSE
SUMMARY:The Villa at Flowing Springs Open House
DESCRIPTION:The Villa at Flowing Springs is an independent apartment community for seniors. In our comfortable and carefree community\, we offer spacious one & two bedroom living units. Join us to tour our property and visit with our residents and see what life is like at The Villa. the Villa at Flowing Springs is an affiliated organization of the Beatrice Community Hospital and Health Center.
X-ALT-DESC;FMTTYPE=text/html:The Villa at Flowing Springs is an independent apartment community for seniors. In our comfortable and carefree community\, we offer spacious one &amp\; two bedroom living units.&nbsp\;Join us to tour our property and visit with our residents and see what life is like at The Villa. the Villa at Flowing Springs is an affiliated organization of the Beatrice Community Hospital and Health Center.
LOCATION:2211 sunset Drive\, Beatrice NE
UID:e.41.5464
SEQUENCE:3
DTSTAMP:20260422T142724Z
URL:https://business.beatricechamber.com/events/details/the-villa-at-flowing-springs-open-house-05-05-2012-5464
END:VEVENT

END:VCALENDAR
