BEGIN:VCALENDAR
VERSION:2.0
PRODID:-//ChamberMaster//Event Calendar 2.0//EN
METHOD:PUBLISH
X-PUBLISHED-TTL:P3D
REFRESH-INTERVAL:P3D
CALSCALE:GREGORIAN
BEGIN:VEVENT
DTSTART:20101210T230000Z
DTEND:20101211T020000Z
X-MICROSOFT-CDO-ALLDAYEVENT:FALSE
SUMMARY:The Waffle Man at Southern High School
DESCRIPTION:The Waffle Man at Southern High School:\n\n\n\n5-8 p.m. Southern High School Commons\, 115 S. 11th St.\, Wymore. $6 per person\, ages 4 and under free. 2011 Southern Junior Class Jr./Sr. Prom Fundraiser.
X-ALT-DESC;FMTTYPE=text/html:<strong><span style="font-size: 14px\;">The Waffle Man at Southern High School:</span></strong><br />\n<br />\n5-8 p.m. Southern High School Commons\, 115 S. 11th St.\, Wymore. $6 per person\, ages 4 and under free. 2011 Southern Junior Class Jr./Sr. Prom Fundraiser.<br />\n
LOCATION:
UID:e.41.2860
SEQUENCE:3
DTSTAMP:20260425T014532Z
URL:https://business.beatricechamber.com/events/details/the-waffle-man-at-southern-high-school-12-10-2010-2860
END:VEVENT

END:VCALENDAR
