BEGIN:VCALENDAR
VERSION:2.0
PRODID:-//ChamberMaster//Event Calendar 2.0//EN
METHOD:PUBLISH
X-PUBLISHED-TTL:P3D
REFRESH-INTERVAL:P3D
CALSCALE:GREGORIAN
BEGIN:VEVENT
DTSTART;VALUE=DATE:20111029
DTEND;VALUE=DATE:20111031
TRANSP:TRANSPARENT
X-MICROSOFT-CDO-ALLDAYEVENT:TRUE
SUMMARY:Tintype Photos at the Homestead
DESCRIPTION:Homestead National Monument of America's last 2011 Artist-in-Residence\, Jason Jilg from Harvard's passion and talent for photography will be showcased during his residence October 16 -30.\n\n\n\nJilg will host a two-part photography workshop\n\nEducation Center\n\n\n\nSaturday & Sunday\, October 29 & 30\n\n2 pm\n\n\n\nParticipants will produce historic tintype photos\, much like what was uded during early homesteading.  Workshop space is limited to 12 participants.\n\n\n\nPre-registration required by Friday\, October 28.  To register\, call Park Guide Allison Alley at 402-223-1719.
X-ALT-DESC;FMTTYPE=text/html:Homestead National Monument of America&#39\;s last 2011 Artist-in-Residence\, Jason Jilg from Harvard&#39\;s passion and talent for photography will be showcased during his residence October 16 -30.<br />\n<br />\nJilg will host a two-part photography workshop<br />\nEducation Center<br />\n<br />\nSaturday &amp\; Sunday\, October 29 &amp\; 30<br />\n2 pm<br />\n<br />\nParticipants will produce historic tintype photos\, much like what was uded during early homesteading.&nbsp\; Workshop space is limited to 12 participants.<br />\n<br />\nPre-registration required by Friday\, October 28.&nbsp\; To register\, call Park Guide Allison Alley at 402-223-1719.
LOCATION:
UID:e.41.5205
SEQUENCE:3
DTSTAMP:20260424T111951Z
URL:https://business.beatricechamber.com/events/details/tintype-photos-at-the-homestead-10-29-2011-5205
END:VEVENT

END:VCALENDAR
