BEGIN:VCALENDAR
VERSION:2.0
PRODID:-//ChamberMaster//Event Calendar 2.0//EN
METHOD:PUBLISH
X-PUBLISHED-TTL:P3D
REFRESH-INTERVAL:P3D
CALSCALE:GREGORIAN
BEGIN:VEVENT
DTSTART:20110612T180000Z
DTEND:20110612T230000Z
X-MICROSOFT-CDO-ALLDAYEVENT:FALSE
SUMMARY:TIPS Responsible Beverage Server Training
DESCRIPTION:Your are Invited:\n\n\n\nTIPS Responsible Beverage Server Training\n\nGage County MAPS Community Coalition\n\nwww.gagecountymaps.org\n\n\n\nJune 12\, 2011\n\n1 - 6 pm\n\n\n\n429 Factory Youth Center\n\n923 W Court\, Beatrice\, NE\n\n\n\n$25 per person/$50 in you have been cited\; Training materials and snacks included in fee.\n\n\n\nTaught by Beatrice Police Officer Ernie Reiss\n\n\n\nCall MAPS to register prior to June 10th at 402-223-1500\, ext. 1059 or email clyons@bpsne.org\n\n(If this date doesn't work for you-call to schedule a training for your establishment - $15 per person.)\n\n\n\nBenefits to your business:\n\nCompliance with state and local regulations\; Protection from alcohol liability lawsuits\; Decreased penalties for alcohol violations\; Better bottom line through lower insurance premiums\; Improved customer service and satisfaction\; Increased staff professionalism\; Prevents Underage Drinking\, Drunk Driving\, Alcohol Abuse\, Property Damage\, and Personal Injury
X-ALT-DESC;FMTTYPE=text/html:Your are Invited:<br />\n<br />\n<span style="font-size: 16px"><span style="font-family: tahoma">TIPS Responsible Beverage Server Training</span></span><br />\nGage County MAPS Community Coalition<br />\nwww.gagecountymaps.org<br />\n<br />\nJune 12\, 2011<br />\n1 - 6 pm<br />\n<br />\n429 Factory Youth Center<br />\n923 W Court\, Beatrice\, NE<br />\n<br />\n$25 per person/$50 in you have been cited\; Training materials and snacks included in fee.<br />\n<br />\nTaught by Beatrice Police Officer Ernie Reiss<br />\n<br />\nCall MAPS to register prior to June 10th at 402-223-1500\, ext. 1059 or email <a href="mailto:clyons@bpsne.org">clyons@bpsne.org</a><br />\n(If this date doesn&#39\;t work for you-call to schedule a training for your establishment&nbsp\;- $15 per person.)<br />\n<br />\n<u>Benefits to your business:</u><br />\nCompliance with state and local regulations\; Protection from alcohol liability lawsuits\; Decreased penalties for alcohol violations\; Better bottom line through lower insurance premiums\; Improved customer service and satisfaction\; Increased staff professionalism\; Prevents Underage Drinking\, Drunk Driving\, Alcohol Abuse\, Property Damage\, and Personal Injury
LOCATION:
UID:e.41.4848
SEQUENCE:3
DTSTAMP:20260424T165222Z
URL:https://business.beatricechamber.com/events/details/tips-responsible-beverage-server-training-06-12-2011-4848
END:VEVENT

END:VCALENDAR
