BEGIN:VCALENDAR
VERSION:2.0
PRODID:-//ChamberMaster//Event Calendar 2.0//EN
METHOD:PUBLISH
X-PUBLISHED-TTL:P3D
REFRESH-INTERVAL:P3D
CALSCALE:GREGORIAN
BEGIN:VEVENT
DTSTART;VALUE=DATE:20110101
DTEND;VALUE=DATE:20110102
TRANSP:TRANSPARENT
X-MICROSOFT-CDO-ALLDAYEVENT:TRUE
SUMMARY:Toast to the New Year
DESCRIPTION:Toast to the New Year at The End Zone Sports Bar\n\n3500 N 6th Street\, Beatrice\n\n\n\nSaturday\, January 1st\n\nOpening at 9 a.m.\n\n\n\nEntertainment 9 p.m. - Close\n\nS&K Karaoke
X-ALT-DESC;FMTTYPE=text/html:Toast to the New Year at The End Zone Sports Bar<br />\n3500 N 6th Street\, Beatrice<br />\n<br />\nSaturday\, January 1st<br />\nOpening at 9 a.m.<br />\n<br />\nEntertainment 9 p.m. - Close<br />\nS&amp\;K Karaoke
LOCATION:
UID:e.41.3157
SEQUENCE:3
DTSTAMP:20260425T003743Z
URL:https://business.beatricechamber.com/events/details/toast-to-the-new-year-01-01-2011-3157
END:VEVENT

END:VCALENDAR
