BEGIN:VCALENDAR
VERSION:2.0
PRODID:-//ChamberMaster//Event Calendar 2.0//EN
METHOD:PUBLISH
X-PUBLISHED-TTL:P3D
REFRESH-INTERVAL:P3D
CALSCALE:GREGORIAN
BEGIN:VEVENT
DTSTART;VALUE=DATE:20101105
DTEND;VALUE=DATE:20101106
TRANSP:TRANSPARENT
X-MICROSOFT-CDO-ALLDAYEVENT:TRUE
SUMMARY:Toastmasters Meeting
DESCRIPTION:Toastmasters meeting\n\n\n\nFriday\, November 5\, at 7 a.m.\n\n\n\nBeatrice City Auditorium- Chamber conference room\n\n\n\nEnjoy a complimentary light breakfast and great fellowship\, and learn about how Toastmasters can help you become a more confident and capable public speaker.
X-ALT-DESC;FMTTYPE=text/html:<strong>Toastmasters meeting<br />\n<br />\nFriday\, November 5\, at 7 a.m.<br />\n<br />\nBeatrice City Auditorium- Chamber conference room</strong><br />\n<br />\nEnjoy a complimentary light breakfast and great fellowship\, and learn about how Toastmasters can help you become a more confident and capable public speaker.
LOCATION:
UID:e.41.2713
SEQUENCE:3
DTSTAMP:20260425T032530Z
URL:https://business.beatricechamber.com/events/details/toastmasters-meeting-11-05-2010-2713
END:VEVENT

END:VCALENDAR
