BEGIN:VCALENDAR
VERSION:2.0
PRODID:-//ChamberMaster//Event Calendar 2.0//EN
METHOD:PUBLISH
X-PUBLISHED-TTL:P3D
REFRESH-INTERVAL:P3D
CALSCALE:GREGORIAN
BEGIN:VEVENT
DTSTART;VALUE=DATE:20110405
DTEND;VALUE=DATE:20110406
TRANSP:TRANSPARENT
X-MICROSOFT-CDO-ALLDAYEVENT:TRUE
SUMMARY:Toddler Story Time (-3 age)
DESCRIPTION:10 a.m.\, Beatrice Public Library\, (every Tuesday morning in April). \n\nTheme: "Places to Go". Storytime schedules at the library and on the library Web site.
X-ALT-DESC;FMTTYPE=text/html:10 a.m.\, Beatrice Public Library\, (every Tuesday morning in April).&nbsp\;<br />\nTheme: &quot\;Places to Go&quot\;. Storytime schedules at the library and on the library Web site.
LOCATION:
UID:e.41.4557
SEQUENCE:3
DTSTAMP:20260424T195803Z
URL:https://business.beatricechamber.com/events/details/toddler-story-time-3-age-04-05-2011-4557
END:VEVENT

END:VCALENDAR
