BEGIN:VCALENDAR
VERSION:2.0
PRODID:-//ChamberMaster//Event Calendar 2.0//EN
METHOD:PUBLISH
X-PUBLISHED-TTL:P3D
REFRESH-INTERVAL:P3D
CALSCALE:GREGORIAN
BEGIN:VEVENT
DTSTART:20100219T013000Z
DTEND:20100219T033000Z
X-MICROSOFT-CDO-ALLDAYEVENT:FALSE
SUMMARY:Tonic Sol-Fa Returns to Beatrice!
DESCRIPTION:Tonic Sol-Fa Returns to Beatrice!Hevelone Center - Beatrice High SchoolThursday\, February 18th\, 7:30 pm to 9:30 pm
X-ALT-DESC;FMTTYPE=text/html:<div style="text-align: center"><span style="font-size: medium"><strong>Tonic Sol-Fa Returns to Beatrice!</strong></span></div><div style="text-align: center"><span style="font-size: medium"><strong>Hevelone Center - Beatrice High School</strong></span></div><div style="text-align: center"><span style="font-size: medium"><strong>Thursday\, February 18th\, 7:30 pm to 9:30 pm</strong></span></div>
LOCATION:Hevelone Center - Beatrice High School
UID:e.41.1571
SEQUENCE:3
DTSTAMP:20260425T164611Z
URL:https://business.beatricechamber.com/events/details/tonic-sol-fa-returns-to-beatrice-02-18-2010-1571
END:VEVENT

END:VCALENDAR
