BEGIN:VCALENDAR
VERSION:2.0
PRODID:-//ChamberMaster//Event Calendar 2.0//EN
METHOD:PUBLISH
X-PUBLISHED-TTL:P3D
REFRESH-INTERVAL:P3D
CALSCALE:GREGORIAN
BEGIN:VEVENT
DTSTART;VALUE=DATE:20110118
DTEND;VALUE=DATE:20110119
TRANSP:TRANSPARENT
X-MICROSOFT-CDO-ALLDAYEVENT:TRUE
SUMMARY:Tourism Advisory Board Meeting
DESCRIPTION:Tourism Advisory Board Meeting\n\n\n\nTuesday\, January 18th\n\n3:30 p.m.\n\n\n\nBeatrice City Auditorium Conference Room\n\n205 N 4th Street\, Beatrice\n\n\n\nFor more information\, contact Jim Spangler\, Director of Tourism\, 402-223-2338\n\nwww.visitbeatrice.com
X-ALT-DESC;FMTTYPE=text/html:Tourism Advisory Board Meeting<br />\n<br />\nTuesday\, January 18th<br />\n3:30 p.m.<br />\n<br />\nBeatrice City Auditorium Conference Room<br />\n205 N 4th Street\, Beatrice<br />\n<br />\nFor more information\, contact Jim Spangler\, Director of Tourism\, 402-223-2338<br />\nwww.visitbeatrice.com<br />\n
LOCATION:
UID:e.41.3249
SEQUENCE:3
DTSTAMP:20260425T003611Z
URL:https://business.beatricechamber.com/events/details/tourism-advisory-board-meeting-01-18-2011-3249
END:VEVENT

END:VCALENDAR
