BEGIN:VCALENDAR
VERSION:2.0
PRODID:-//ChamberMaster//Event Calendar 2.0//EN
METHOD:PUBLISH
X-PUBLISHED-TTL:P3D
REFRESH-INTERVAL:P3D
CALSCALE:GREGORIAN
BEGIN:VEVENT
DTSTART:20090616T200000Z
DTEND:20090616T210000Z
X-MICROSOFT-CDO-ALLDAYEVENT:FALSE
SUMMARY:Tourism Advisory Council Meeting
DESCRIPTION:
X-ALT-DESC;FMTTYPE=text/html:
LOCATION:Chamber Office223 South 6thBeatrice\, NE3:00 pm
UID:e.41.1219
SEQUENCE:3
DTSTAMP:20260426T043012Z
URL:https://business.beatricechamber.com/events/details/tourism-advisory-council-meeting-06-16-2009-1219
END:VEVENT

END:VCALENDAR
