BEGIN:VCALENDAR
VERSION:2.0
PRODID:-//ChamberMaster//Event Calendar 2.0//EN
METHOD:PUBLISH
X-PUBLISHED-TTL:P3D
REFRESH-INTERVAL:P3D
CALSCALE:GREGORIAN
BEGIN:VEVENT
DTSTART:20090918T200000Z
DTEND:20090918T210000Z
X-MICROSOFT-CDO-ALLDAYEVENT:FALSE
SUMMARY:Tourism Advisory Council Meeting
DESCRIPTION:
X-ALT-DESC;FMTTYPE=text/html:
LOCATION:Old Chamber Office226 South 6thBeatrice\, NE3:00 pm
UID:e.41.1404
SEQUENCE:3
DTSTAMP:20260425T234133Z
URL:https://business.beatricechamber.com/events/details/tourism-advisory-council-meeting-09-18-2009-1404
END:VEVENT

END:VCALENDAR
