BEGIN:VCALENDAR
VERSION:2.0
PRODID:-//ChamberMaster//Event Calendar 2.0//EN
METHOD:PUBLISH
X-PUBLISHED-TTL:P3D
REFRESH-INTERVAL:P3D
CALSCALE:GREGORIAN
BEGIN:VEVENT
DTSTART:20091020T200000Z
DTEND:20091020T210000Z
X-MICROSOFT-CDO-ALLDAYEVENT:FALSE
SUMMARY:Tourism Advisory Council Meeting
DESCRIPTION:
X-ALT-DESC;FMTTYPE=text/html:
LOCATION:Old Chamber Office226 South 6thBeatrice\, NE3:00 pm
UID:e.41.1462
SEQUENCE:3
DTSTAMP:20260425T222332Z
URL:https://business.beatricechamber.com/events/details/tourism-advisory-council-meeting-10-20-2009-1462
END:VEVENT

END:VCALENDAR
