BEGIN:VCALENDAR
VERSION:2.0
PRODID:-//ChamberMaster//Event Calendar 2.0//EN
METHOD:PUBLISH
X-PUBLISHED-TTL:P3D
REFRESH-INTERVAL:P3D
CALSCALE:GREGORIAN
BEGIN:VEVENT
DTSTART;VALUE=DATE:20100310
DTEND;VALUE=DATE:20100311
TRANSP:TRANSPARENT
X-MICROSOFT-CDO-ALLDAYEVENT:TRUE
SUMMARY:''Tractor Bob'' Entertainment
DESCRIPTION:"Tractor Bob" EntertainmentBeatrice Senior Center101 N. 25th 11:45 a.m. Meal12:15 p.m. Program Program  by Bob Bryan\, national antique tractor pull champion.  Make meal reservations one day prior by calling 223-1357
X-ALT-DESC;FMTTYPE=text/html:<div>&quot\;Tractor Bob&quot\; Entertainment</div><div>Beatrice Senior Center</div><div>101 N. 25th</div><div>&nbsp\;</div><div>11:45 a.m. Meal</div><div>12:15 p.m. Program</div><div>&nbsp\;</div><div>Program&nbsp\; by Bob Bryan\, national antique tractor pull champion.&nbsp\;</div><div>&nbsp\;</div><div>Make meal reservations one day prior by calling 223-1357</div>
LOCATION:
UID:e.41.1670
SEQUENCE:3
DTSTAMP:20260425T152947Z
URL:https://business.beatricechamber.com/events/details/tractor-bob-entertainment-03-10-2010-1670
END:VEVENT

END:VCALENDAR
