BEGIN:VCALENDAR
VERSION:2.0
PRODID:-//ChamberMaster//Event Calendar 2.0//EN
METHOD:PUBLISH
X-PUBLISHED-TTL:P3D
REFRESH-INTERVAL:P3D
CALSCALE:GREGORIAN
BEGIN:VEVENT
DTSTART:20120614T220000Z
DTEND:20120616T010000Z
X-MICROSOFT-CDO-ALLDAYEVENT:FALSE
SUMMARY:Tractor safety courses offered
DESCRIPTION:University of Nebraska-Lincoln Extension Tractor Safety/Hazardous Occupations Course will be offered in Beatrice at the Extension Office and on the Gage County Fairgrounds on June 14-15.\n\n\n\nThe class will be held from 8 a.m. to 5 p.m. each day. Federal law prohibits youths under 16 years of age from working on a farm other than their parents'.\n\n\n\nRegistration is strongly encouraged by June 7 by contacting the Extension Office in Beatrice at 402-223-1384 or email gage-county@unl.edu. The course registration is $60\, which includes supplies\, lunches and breaks.\n\n\n\nContact the Gage County Extension Office or Sharry Nielsen at 308-832-0645\, snielsen1@unl.edu.
X-ALT-DESC;FMTTYPE=text/html:University of Nebraska-Lincoln Extension&nbsp\;Tractor Safety/Hazardous Occupations Course&nbsp\;will be offered in Beatrice at the Extension Office and on the Gage County Fairgrounds on June 14-15.<br />\n<br />\nThe class will be held from&nbsp\;8 a.m. to 5 p.m. each day.&nbsp\;Federal&nbsp\;law prohibits youths under&nbsp\;16 years of age from working&nbsp\;on a farm other than&nbsp\;their parents&#39\;.<br />\n<br />\nRegistration is&nbsp\;strongly encouraged by&nbsp\;June 7 by contacting&nbsp\;the Extension Office in Beatrice at 402-223-1384 or&nbsp\;email gage-county@unl.edu. The&nbsp\;course registration is $60\, which includes supplies\, lunches and&nbsp\;breaks.<br />\n<br />\nContact the Gage&nbsp\;County Extension Office or Sharry Nielsen&nbsp\;at 308-832-0645\, snielsen1@unl.edu.
LOCATION:
UID:e.41.5723
SEQUENCE:3
DTSTAMP:20260422T131014Z
URL:https://business.beatricechamber.com/events/details/tractor-safety-courses-offered-06-14-2012-5723
END:VEVENT

END:VCALENDAR
