BEGIN:VCALENDAR
VERSION:2.0
PRODID:-//ChamberMaster//Event Calendar 2.0//EN
METHOD:PUBLISH
X-PUBLISHED-TTL:P3D
REFRESH-INTERVAL:P3D
CALSCALE:GREGORIAN
BEGIN:VEVENT
DTSTART:20120916T180000Z
DTEND:20120916T180000Z
X-MICROSOFT-CDO-ALLDAYEVENT:FALSE
SUMMARY:Trails Center to Display Collections
DESCRIPTION:Old West Trails Center will be displaying collections.\n\nThose collections include:\n\n	\n		Rudy Novotny's barbed wire\n	\n		Carl Lytle's levels\n	\n		Mark Billesbach's locks
X-ALT-DESC;FMTTYPE=text/html:Old West Trails Center will be displaying collections.<br />\nThose collections include:\n<ul>\n	<li>\n		Rudy Novotny&#39\;s barbed wire</li>\n	<li>\n		Carl Lytle&#39\;s levels</li>\n	<li>\n		Mark Billesbach&#39\;s locks</li>\n</ul>\n
LOCATION:Old West Trails Center Odell\, NE
UID:e.41.6852
SEQUENCE:3
DTSTAMP:20260422T090924Z
URL:https://business.beatricechamber.com/events/details/trails-center-to-display-collections-09-16-2012-6852
END:VEVENT

END:VCALENDAR
