BEGIN:VCALENDAR
VERSION:2.0
PRODID:-//ChamberMaster//Event Calendar 2.0//EN
METHOD:PUBLISH
X-PUBLISHED-TTL:P3D
REFRESH-INTERVAL:P3D
CALSCALE:GREGORIAN
BEGIN:VEVENT
DTSTART:20091215T150000Z
DTEND:20091219T220000Z
X-MICROSOFT-CDO-ALLDAYEVENT:FALSE
SUMMARY:Treasure Hunters Road Show
DESCRIPTION:The Roadshow is featured this weekDecember 15th - 19thTuesday - Friday 9 am - 6 pmSaturday 9 am - 4 pmFree AdmisttoinHoliday Inn Express4005 N 6th St For directions call: 402-228-7000For Show Info call: 217-726-7703
X-ALT-DESC;FMTTYPE=text/html:<div>The Roadshow is featured this week</div><div>December 15th - 19th</div><div>Tuesday - Friday 9 am - 6 pm</div><div>Saturday 9 am - 4 pm</div><div>Free Admisttoin</div><div>Holiday Inn Express</div><div>4005 N 6th St</div><div>&nbsp\;</div><div>For directions call: 402-228-7000</div><div>For Show Info call: 217-726-7703</div>
LOCATION:
UID:e.41.1567
SEQUENCE:3
DTSTAMP:20260425T194209Z
URL:https://business.beatricechamber.com/events/details/treasure-hunters-road-show-12-15-2009-1567
END:VEVENT

END:VCALENDAR
