BEGIN:VCALENDAR
VERSION:2.0
PRODID:-//ChamberMaster//Event Calendar 2.0//EN
METHOD:PUBLISH
X-PUBLISHED-TTL:P3D
REFRESH-INTERVAL:P3D
CALSCALE:GREGORIAN
BEGIN:VEVENT
DTSTART;VALUE=DATE:20110614
DTEND;VALUE=DATE:20110619
TRANSP:TRANSPARENT
X-MICROSOFT-CDO-ALLDAYEVENT:TRUE
SUMMARY:Treasure Hunters Roadshow
DESCRIPTION:Looking to sell your antiques or collectibles? You have come to the right place! At Treasure Hunters Roadshow\, we specialize in buying your treasure!
X-ALT-DESC;FMTTYPE=text/html:Looking to sell your antiques or collectibles? You have come to the right place! At Treasure Hunters Roadshow\, we specialize in buying your treasure!
LOCATION:Holiday Inn Express & Suites
UID:e.41.4572
SEQUENCE:3
DTSTAMP:20260424T165610Z
URL:https://business.beatricechamber.com/events/details/treasure-hunters-roadshow-06-14-2011-4572
END:VEVENT

END:VCALENDAR
