BEGIN:VCALENDAR
VERSION:2.0
PRODID:-//ChamberMaster//Event Calendar 2.0//EN
METHOD:PUBLISH
X-PUBLISHED-TTL:P3D
REFRESH-INTERVAL:P3D
CALSCALE:GREGORIAN
BEGIN:VEVENT
DTSTART;VALUE=DATE:20110629
DTEND;VALUE=DATE:20110702
TRANSP:TRANSPARENT
X-MICROSOFT-CDO-ALLDAYEVENT:TRUE
SUMMARY:Treasure Hunters Roadshow
DESCRIPTION:Treasure Hunters Roadshow\n\n\n\nWednesday\, June 29 thru Friday\, July 1\n\n9 am - 6 pm\n\n\n\nHoliday Inn Express Convention Center\n\n4005 N 6th Street\n\nBeatrice\, NE  68310
X-ALT-DESC;FMTTYPE=text/html:Treasure Hunters Roadshow<br />\n<br />\nWednesday\, June 29 thru Friday\, July 1<br />\n9 am - 6 pm<br />\n<br />\nHoliday Inn Express Convention Center<br />\n4005 N 6th Street<br />\nBeatrice\, NE&nbsp\; 68310<br />\n<br />\n<br />\n
LOCATION:
UID:e.41.4945
SEQUENCE:3
DTSTAMP:20260424T153132Z
URL:https://business.beatricechamber.com/events/details/treasure-hunters-roadshow-06-29-2011-4945
END:VEVENT

END:VCALENDAR
