BEGIN:VCALENDAR
VERSION:2.0
PRODID:-//ChamberMaster//Event Calendar 2.0//EN
METHOD:PUBLISH
X-PUBLISHED-TTL:P3D
REFRESH-INTERVAL:P3D
CALSCALE:GREGORIAN
BEGIN:VEVENT
DTSTART:20101214T010000Z
DTEND:20101214T010000Z
X-MICROSOFT-CDO-ALLDAYEVENT:FALSE
SUMMARY:Tri County Elementary holiday programs:
DESCRIPTION:K-3 program at 7 p.m.\, 4-6 program at 8 p.m.\, Seasonal tunes by piano students prior to each program. Audience may attend one  or both programs\, with time allowed programs to come and go as necessary.
X-ALT-DESC;FMTTYPE=text/html:<span style="font-size: 16px\;"><strong>K-3 program at 7 p.m.\, 4-6 program at 8 p.m.\, Seasonal tunes by piano students prior to each program. Audience may attend one&nbsp\; or both programs\, with time allowed programs to come and go as necessary.</strong></span>
LOCATION:
UID:e.41.2920
SEQUENCE:3
DTSTAMP:20260425T013846Z
URL:https://business.beatricechamber.com/events/details/tri-county-elementary-holiday-programs-12-13-2010-2920
END:VEVENT

END:VCALENDAR
