BEGIN:VCALENDAR
VERSION:2.0
PRODID:-//ChamberMaster//Event Calendar 2.0//EN
METHOD:PUBLISH
X-PUBLISHED-TTL:P3D
REFRESH-INTERVAL:P3D
CALSCALE:GREGORIAN
BEGIN:VEVENT
DTSTART:20120212T230000Z
DTEND:20120213T020000Z
X-MICROSOFT-CDO-ALLDAYEVENT:FALSE
SUMMARY:Tri County/Valentino's Musical Waiter Night
DESCRIPTION:Tri County/Valentino's Musical Waiter Night\n\n\n\nSunday\, February 12\n\n5 - 8 pm\n\n\n\nValentino's\, 7th & Court\, Beatrice\n\n\n\nMusic and wait staff by Tri County vocal and instrumental students.  Hosts: TC's musica instructors\, Nathan Morrissey and Karen Reynolds\, and their spouses\, Nicole Morrissey and Jeff Reynolds.\n\n\n\nTips and a percentage of the dinner ticket go to TC's Music Department programs.
X-ALT-DESC;FMTTYPE=text/html:Tri County/Valentino&#39\;s Musical Waiter Night<br />\n<br />\nSunday\, February 12<br />\n5 - 8 pm<br />\n<br />\nValentino&#39\;s\, 7th &amp\; Court\, Beatrice<br />\n<br />\nMusic and wait staff by Tri County vocal and instrumental students.&nbsp\; Hosts: TC&#39\;s musica instructors\, Nathan Morrissey and Karen Reynolds\, and their spouses\, Nicole Morrissey and Jeff Reynolds.<br />\n<br />\nTips and a percentage of the dinner ticket go to TC&#39\;s Music Department programs.
LOCATION:
UID:e.41.5305
SEQUENCE:3
DTSTAMP:20260422T185524Z
URL:https://business.beatricechamber.com/events/details/tri-county-valentino-s-musical-waiter-night-02-12-2012-5305
END:VEVENT

END:VCALENDAR
