BEGIN:VCALENDAR
VERSION:2.0
PRODID:-//ChamberMaster//Event Calendar 2.0//EN
METHOD:PUBLISH
X-PUBLISHED-TTL:P3D
REFRESH-INTERVAL:P3D
CALSCALE:GREGORIAN
BEGIN:VEVENT
DTSTART;VALUE=DATE:20111028
DTEND;VALUE=DATE:20111029
TRANSP:TRANSPARENT
X-MICROSOFT-CDO-ALLDAYEVENT:TRUE
SUMMARY:Trunk or Treat with YMCA
DESCRIPTION:YMCA hosts Trunk or Treat\, Kids Night Out\n\n\n\nFriday\, October 28\n\n7-8:30 pm\n\n\n\nBeatrice YMCA\, 1801 Scott Street\n\n\n\nArea businesses and groups are encouraged to participate and donate their time and some treats to share from a decorated trunk or tent in the west parking lot of the YMCA.  To participate contact Jenny Dugan at 402-223-5266 by October 14.
X-ALT-DESC;FMTTYPE=text/html:<span style="font-size: 12px"><strong>YMCA hosts Trunk or Treat\, Kids Night Out<br />\n<br />\nFriday\, October 28<br />\n7-8:30 pm<br />\n<br />\nBeatrice YMCA\, 1801 Scott Street</strong></span><br />\n<br />\nArea businesses and groups are encouraged to participate and donate their time and some treats to share from a decorated trunk or tent in the west parking lot of the YMCA.&nbsp\; To participate contact Jenny Dugan at 402-223-5266 by October 14.
LOCATION:
UID:e.41.5190
SEQUENCE:3
DTSTAMP:20260424T111259Z
URL:https://business.beatricechamber.com/events/details/trunk-or-treat-with-ymca-10-28-2011-5190
END:VEVENT

END:VCALENDAR
