BEGIN:VCALENDAR
VERSION:2.0
PRODID:-//ChamberMaster//Event Calendar 2.0//EN
METHOD:PUBLISH
X-PUBLISHED-TTL:P3D
REFRESH-INTERVAL:P3D
CALSCALE:GREGORIAN
BEGIN:VEVENT
DTSTART;VALUE=DATE:20100309
DTEND;VALUE=DATE:20100310
TRANSP:TRANSPARENT
X-MICROSOFT-CDO-ALLDAYEVENT:TRUE
SUMMARY:''Tuesday Night with the Library''
DESCRIPTION:"Tuesday Night with the Library"Author Raimonds Zvirbulis Tuesday\, March 9\, 20107:30 p.m. Zvirbulis is the author of "Paddle 'Til Dark\," an account of his kayak trip on the Yukon River. For more information\, contact the Library at 223-3584
X-ALT-DESC;FMTTYPE=text/html:<div>&quot\;Tuesday Night with the Library&quot\;</div><div>Author Raimonds Zvirbulis</div><div>&nbsp\;</div><div>Tuesday\, March 9\, 2010</div><div>7:30 p.m.</div><div>&nbsp\;</div><div>Zvirbulis is the author of &quot\;Paddle 'Til Dark\,&quot\; an account of his kayak trip on the Yukon River.</div><div>&nbsp\;</div><div>For more information\, contact the Library at 223-3584</div>
LOCATION:
UID:e.41.1673
SEQUENCE:3
DTSTAMP:20260425T152947Z
URL:https://business.beatricechamber.com/events/details/tuesday-night-with-the-library-03-09-2010-1673
END:VEVENT

END:VCALENDAR
