BEGIN:VCALENDAR
VERSION:2.0
PRODID:-//ChamberMaster//Event Calendar 2.0//EN
METHOD:PUBLISH
X-PUBLISHED-TTL:P3D
REFRESH-INTERVAL:P3D
CALSCALE:GREGORIAN
BEGIN:VEVENT
DTSTART;VALUE=DATE:20110726
DTEND;VALUE=DATE:20110727
TRANSP:TRANSPARENT
X-MICROSOFT-CDO-ALLDAYEVENT:TRUE
SUMMARY:"Tuesday Night with the Library" Program
DESCRIPTION:Starts at 7:30 p.m.\, Beatrice Public Library\, 16th and Court Street\, Beatrice.  For more information call 402-223-3584.
X-ALT-DESC;FMTTYPE=text/html:Starts at 7:30 p.m.\, Beatrice Public Library\, 16th and Court Street\, Beatrice.&nbsp\; For more information call 402-223-3584.
LOCATION:
UID:e.41.4985
SEQUENCE:3
DTSTAMP:20260424T152209Z
URL:https://business.beatricechamber.com/events/details/tuesday-night-with-the-library-program-07-26-2011-4985
END:VEVENT

END:VCALENDAR
