BEGIN:VCALENDAR
VERSION:2.0
PRODID:-//ChamberMaster//Event Calendar 2.0//EN
METHOD:PUBLISH
X-PUBLISHED-TTL:P3D
REFRESH-INTERVAL:P3D
CALSCALE:GREGORIAN
BEGIN:VEVENT
DTSTART;VALUE=DATE:20100622
DTEND;VALUE=DATE:20100623
TRANSP:TRANSPARENT
X-MICROSOFT-CDO-ALLDAYEVENT:TRUE
SUMMARY:''Tuesday Night with the Library'' series
DESCRIPTION:"Tuesday Night with the Library" series Tuesday\, June 227:30 p.m. Norva Price RoomBeatrice Public Library\, 16th & Court Beatrice Humane Society's Year of the Cat program:  "Cats: Facts and Folklore." 223-3584
X-ALT-DESC;FMTTYPE=text/html:<div>&quot\;Tuesday Night with the Library&quot\; series</div><div>&nbsp\;</div><div>Tuesday\, June 22</div><div>7:30 p.m.</div><div>&nbsp\;</div><div>Norva Price Room</div><div>Beatrice Public Library\, 16th &amp\; Court</div><div>&nbsp\;</div><div>Beatrice Humane Society's Year of the Cat program:&nbsp\; &quot\;Cats:&nbsp\;Facts and Folklore.&quot\;</div><div>&nbsp\;</div><div>223-3584</div>
LOCATION:
UID:e.41.2034
SEQUENCE:3
DTSTAMP:20260425T105505Z
URL:https://business.beatricechamber.com/events/details/tuesday-night-with-the-library-series-06-22-2010-2034
END:VEVENT

END:VCALENDAR
