BEGIN:VCALENDAR
VERSION:2.0
PRODID:-//ChamberMaster//Event Calendar 2.0//EN
METHOD:PUBLISH
X-PUBLISHED-TTL:P3D
REFRESH-INTERVAL:P3D
CALSCALE:GREGORIAN
BEGIN:VEVENT
DTSTART;VALUE=DATE:20110719
DTEND;VALUE=DATE:20110720
TRANSP:TRANSPARENT
X-MICROSOFT-CDO-ALLDAYEVENT:TRUE
SUMMARY:'Tuesday Night with the Library' to Feature Bicycle Travel Expert
DESCRIPTION:The Beatrice Public Library "Tuesday Night with the Library" program on Tuesday\, July 19\, will feature Matt Baumeister.\n\n\n\nBaumeister is a bicycle travel expert who traveled from Alaska to Argentina on his bike riding adventure.  The program begins at 7:30 p.m.  For more information\, contact the Library at 402-223-3584.
X-ALT-DESC;FMTTYPE=text/html:The Beatrice Public Library &quot\;Tuesday Night with the Library&quot\; program on Tuesday\, July 19\, will feature Matt Baumeister.<br />\n<br />\nBaumeister is a bicycle travel expert who traveled from Alaska to Argentina on his bike riding adventure.&nbsp\; The program begins at 7:30 p.m.&nbsp\; For more information\, contact the Library at 402-223-3584.
LOCATION:
UID:e.41.4956
SEQUENCE:3
DTSTAMP:20260424T153335Z
URL:https://business.beatricechamber.com/events/details/tuesday-night-with-the-library-to-feature-bicycle-travel-expert-07-19-2011-4956
END:VEVENT

END:VCALENDAR
