BEGIN:VCALENDAR
VERSION:2.0
PRODID:-//ChamberMaster//Event Calendar 2.0//EN
METHOD:PUBLISH
X-PUBLISHED-TTL:P3D
REFRESH-INTERVAL:P3D
CALSCALE:GREGORIAN
BEGIN:VEVENT
DTSTART;VALUE=DATE:20110409
DTEND;VALUE=DATE:20110410
TRANSP:TRANSPARENT
X-MICROSOFT-CDO-ALLDAYEVENT:TRUE
SUMMARY:Turkey Always Hunting Heritage Banquet
DESCRIPTION:Annual National Wild Turkey Federation Turkey Always Hunting Heritage Banquet:\n\n\n\n7 p.m.\, buffet dinner\, Classic's\, 1301 Oak St.\, Beatrice. Raffles\; door prizes\, auctions. Jason moore\, 402-228-0634
X-ALT-DESC;FMTTYPE=text/html:Annual National Wild Turkey Federation Turkey Always Hunting Heritage Banquet:<br />\n<br />\n<strong>7 p.m.</strong>\, buffet dinner\, Classic&#39\;s\, 1301 Oak St.\, Beatrice. Raffles\; door prizes\, auctions. Jason moore\, 402-228-0634
LOCATION:
UID:e.41.4559
SEQUENCE:3
DTSTAMP:20260424T200058Z
URL:https://business.beatricechamber.com/events/details/turkey-always-hunting-heritage-banquet-04-09-2011-4559
END:VEVENT

END:VCALENDAR
