BEGIN:VCALENDAR
VERSION:2.0
PRODID:-//ChamberMaster//Event Calendar 2.0//EN
METHOD:PUBLISH
X-PUBLISHED-TTL:P3D
REFRESH-INTERVAL:P3D
CALSCALE:GREGORIAN
BEGIN:VEVENT
DTSTART;VALUE=DATE:20101123
DTEND;VALUE=DATE:20101126
TRANSP:TRANSPARENT
X-MICROSOFT-CDO-ALLDAYEVENT:TRUE
SUMMARY:Turkey Trot
DESCRIPTION:The Turkey Trot tradition will continue Thanksgiving morning at the Beatrice YMCA. The holiday race event will start at 9 a.m. sharp. Families can come for a 1 mile walk or run in the 2 or 5 mile race through parts of Beatrice and Chautaqua Park. Refreshmenta and an award ceremony will immediately follow the race. All  participants will be entered into a raffle to win one of 10 free turkeys.\n\n\n\nRegistration is open now through Nov. 25 at 8:15 a.m.
X-ALT-DESC;FMTTYPE=text/html:<strong>The Turkey Trot tradition will continue Thanksgiving morning at the Beatrice YMCA. The holiday race event will start at 9 a.m. sharp. Families can come for a 1 mile walk or run in the 2 or 5 mile race through parts of Beatrice and Chautaqua Park. Refreshmenta and an award ceremony will immediately follow the race. All&nbsp\; participants will be entered into a raffle to win one of 10 free turkeys.<br />\n<br />\nRegistration is open now through Nov. 25 at 8:15 a.m.</strong><br />\n
LOCATION:
UID:e.41.2851
SEQUENCE:3
DTSTAMP:20260425T032433Z
URL:https://business.beatricechamber.com/events/details/turkey-trot-11-23-2010-2851
END:VEVENT

END:VCALENDAR
