BEGIN:VCALENDAR
VERSION:2.0
PRODID:-//ChamberMaster//Event Calendar 2.0//EN
METHOD:PUBLISH
X-PUBLISHED-TTL:P3D
REFRESH-INTERVAL:P3D
CALSCALE:GREGORIAN
BEGIN:VEVENT
DTSTART;VALUE=DATE:20110602
DTEND;VALUE=DATE:20110603
TRANSP:TRANSPARENT
X-MICROSOFT-CDO-ALLDAYEVENT:TRUE
SUMMARY:Tyler Hunter A Tribute to Elvis
DESCRIPTION:Vipers Softball presents:\n\nTyler Hunter: A Tribute to Elvis\n\n\n\nJune 2\, 2011\n\nBeatrice High School Hevelone Center\n\n7 pm\n\n\n\nTickets: $15 General Admission\, $20 Reserved Seating\, includes autograph and photo opportunity (limited seating).\n\n\n\nFor more information or tickets\, call (402)520-1945 (Deb)\, (402)520-0161 (Stacy)\, or (402)520-1031 (Ruth)
X-ALT-DESC;FMTTYPE=text/html:Vipers Softball presents:<br />\nTyler Hunter: A Tribute to Elvis<br />\n<br />\nJune 2\, 2011<br />\nBeatrice High School Hevelone Center<br />\n7 pm<br />\n<br />\nTickets: $15 General Admission\, $20 Reserved Seating\, includes autograph and photo opportunity (limited seating).<br />\n<br />\nFor more information or tickets\, call (402)520-1945 (Deb)\, (402)520-0161 (Stacy)\, or (402)520-1031 (Ruth)
LOCATION:
UID:e.41.4847
SEQUENCE:3
DTSTAMP:20260424T165610Z
URL:https://business.beatricechamber.com/events/details/tyler-hunter-a-tribute-to-elvis-06-02-2011-4847
END:VEVENT

END:VCALENDAR
