BEGIN:VCALENDAR
VERSION:2.0
PRODID:-//ChamberMaster//Event Calendar 2.0//EN
METHOD:PUBLISH
X-PUBLISHED-TTL:P3D
REFRESH-INTERVAL:P3D
CALSCALE:GREGORIAN
BEGIN:VEVENT
DTSTART:20120808T140000Z
DTEND:20120808T150000Z
X-MICROSOFT-CDO-ALLDAYEVENT:FALSE
SUMMARY:U.S. Cellular to host Device Workshop in Beatrice
DESCRIPTION:Smartphone sales will exceed 1 billion devices by 2016\, according to IMS Research. For wireless customers looking to make the switch to a smartphone or tablet or simply upgrade their device\, U.S. Cellular will offer a free Device Workshop. U.S. Cellular associates will help attendees get the most out of the features on their Android-powered\, Windows Phone and BlackBerry devices\, such as the Samsung Galaxy S III and Samsung Galaxy Tab 10.1. The workshop is open to everyone. Please call 402-223-4560 to RSVP. \n\n    "Smartphones continue to be our go-to\, all-in-one gadget\," said Mike Adams\, director of sales for U.S. Cellular in Nebraska. "Android-powered devices have access to nearly half a million apps along with digital movies\, books and music. Customers who switch to U.S. Cellular join the only points-based rewards program in wireless and receive points that can be used towards faster phone upgrades\, free phones\, ringtones and accessories."
X-ALT-DESC;FMTTYPE=text/html:Smartphone sales will exceed 1 billion devices by 2016\, according to IMS Research. For wireless customers looking to make the switch to a smartphone or tablet or simply upgrade their device\, U.S. Cellular will offer a free Device Workshop. U.S. Cellular associates will help attendees get the most out of the features on their Android-powered\, Windows Phone and BlackBerry devices\, such as the Samsung Galaxy S III and Samsung Galaxy Tab 10.1. The workshop is open to everyone. Please call 402-223-4560 to RSVP.&nbsp\;<br />\n&nbsp\;&nbsp\; &nbsp\;&ldquo\;Smartphones continue to be our go-to\, all-in-one gadget\,&rdquo\; said Mike Adams\, director of sales for U.S. Cellular in Nebraska. &ldquo\;Android-powered devices have access to nearly half a million apps along with digital movies\, books and music. Customers who switch to U.S. Cellular join the only points-based rewards program in wireless and receive points that can be used towards faster phone upgrades\, free phones\, ringtones and accessories.&rdquo\;
LOCATION:U.S. Cellular 1211 N. Sixth St. Beatrice
UID:e.41.6334
SEQUENCE:3
DTSTAMP:20260422T100528Z
URL:https://business.beatricechamber.com/events/details/u-s-cellular-to-host-device-workshop-in-beatrice-08-08-2012-6334
END:VEVENT

END:VCALENDAR
