BEGIN:VCALENDAR
VERSION:2.0
PRODID:-//ChamberMaster//Event Calendar 2.0//EN
METHOD:PUBLISH
X-PUBLISHED-TTL:P3D
REFRESH-INTERVAL:P3D
CALSCALE:GREGORIAN
BEGIN:VEVENT
DTSTART;VALUE=DATE:20100502
DTEND;VALUE=DATE:20100503
TRANSP:TRANSPARENT
X-MICROSOFT-CDO-ALLDAYEVENT:TRUE
SUMMARY:Ugly Bridesmaid Dress Pageant
DESCRIPTION:Community Players Presents: Ugly Bridesmaid Dress Pageant Sunday\, May 2\, 20102 p.m.Community Players Theatre\, 412 Ella St.\, Beatrice Tickets are $5 each and may be purchased at the door that day. For more information\, call 228-1801 or visit www.beatricecommunityplayers.com
X-ALT-DESC;FMTTYPE=text/html:<div>Community Players Presents:</div><div>&nbsp\;</div><div>Ugly Bridesmaid Dress Pageant</div><div>&nbsp\;</div><div>Sunday\, May 2\, 2010</div><div>2 p.m.</div><div>Community Players Theatre\, 412 Ella St.\, Beatrice</div><div>&nbsp\;</div><div>Tickets are $5 each and may be purchased at the door that day.</div><div>&nbsp\;</div><div>For more information\, call 228-1801 or visit <a href="http://www.beatricecommunityplayers.com">www.beatricecommunityplayers.com</a></div>
LOCATION:
UID:e.41.1968
SEQUENCE:3
DTSTAMP:20260425T122920Z
URL:https://business.beatricechamber.com/events/details/ugly-bridesmaid-dress-pageant-05-02-2010-1968
END:VEVENT

END:VCALENDAR
