BEGIN:VCALENDAR
VERSION:2.0
PRODID:-//ChamberMaster//Event Calendar 2.0//EN
METHOD:PUBLISH
X-PUBLISHED-TTL:P3D
REFRESH-INTERVAL:P3D
CALSCALE:GREGORIAN
BEGIN:VEVENT
DTSTART;VALUE=DATE:20100605
DTEND;VALUE=DATE:20100606
TRANSP:TRANSPARENT
X-MICROSOFT-CDO-ALLDAYEVENT:TRUE
SUMMARY:Ultimate Garage Sale 6/5/2010
DESCRIPTION:2nd Annual Ultimate Garage Sale and Flea Market\,  June 5th 8 a.m. to 3 p.m.Beatrice Public School Administration Building Parking Lot. (Hwy 77 & Elk/High.)  For more information call Kathy at 223-5233 or e-mail keverhart@beatricedailysun.com
X-ALT-DESC;FMTTYPE=text/html:<div><div style="text-align: center"><strong><font style="font-size: 12pt">2nd Annual Ultimate Garage Sale and Flea Market\,&nbsp\;</font></strong></div><div style="text-align: center">&nbsp\;</div><div style="text-align: center"><font style="font-size: 12pt"><strong>June 5th</strong> </font></div><div style="text-align: center"><font style="font-size: 12pt">8 a.m. to 3 p.m.</font></div><div style="text-align: center"><font style="font-size: 12pt">Beatrice Public School Administration Building Parking Lot. (Hwy 77 &amp\; Elk/High.) </font></div><div style="text-align: center">&nbsp\;</div><div style="text-align: center"><font style="font-size: 12pt">For more information call Kathy at 223-5233 or e-mail <a title="mailto:keverhart@beatricedailysun.com" href="mailto:keverhart@beatricedailysun.com" shape="rect" target="_blank">keverhart@beatricedailysun.com</a></font></div></div>
LOCATION:
UID:e.41.1991
SEQUENCE:3
DTSTAMP:20260425T105653Z
URL:https://business.beatricechamber.com/events/details/ultimate-garage-sale-6-5-2010-06-05-2010-1991
END:VEVENT

END:VCALENDAR
