BEGIN:VCALENDAR
VERSION:2.0
PRODID:-//ChamberMaster//Event Calendar 2.0//EN
METHOD:PUBLISH
X-PUBLISHED-TTL:P3D
REFRESH-INTERVAL:P3D
CALSCALE:GREGORIAN
BEGIN:VEVENT
DTSTART;VALUE=DATE:20100313
DTEND;VALUE=DATE:20100314
TRANSP:TRANSPARENT
X-MICROSOFT-CDO-ALLDAYEVENT:TRUE
SUMMARY:Umpires Clinic
DESCRIPTION:Umpires Clinic Saturday\, March 13\, 20109 a.m. Beatrice City Auditorium Cost: $20 Clinic satisfies all American Legion Baseball requirements.  For more information\, contact Gary Cullison at 239-9031.
X-ALT-DESC;FMTTYPE=text/html:<div>Umpires Clinic</div><div>&nbsp\;</div><div>Saturday\, March 13\, 2010</div><div>9 a.m.</div><div>&nbsp\;</div><div>Beatrice City Auditorium</div><div>&nbsp\;</div><div>Cost: $20</div><div>&nbsp\;</div><div>Clinic satisfies all American Legion Baseball requirements.&nbsp\;&nbsp\;For more information\, contact Gary Cullison at 239-9031.</div>
LOCATION:
UID:e.41.1686
SEQUENCE:3
DTSTAMP:20260425T154423Z
URL:https://business.beatricechamber.com/events/details/umpires-clinic-03-13-2010-1686
END:VEVENT

END:VCALENDAR
