BEGIN:VCALENDAR
VERSION:2.0
PRODID:-//ChamberMaster//Event Calendar 2.0//EN
METHOD:PUBLISH
X-PUBLISHED-TTL:P3D
REFRESH-INTERVAL:P3D
CALSCALE:GREGORIAN
BEGIN:VEVENT
DTSTART:20110920T170000Z
DTEND:20110920T170000Z
X-MICROSOFT-CDO-ALLDAYEVENT:FALSE
SUMMARY:Understanding Your Medicare Benefits hosted by AseraCare Hospice
DESCRIPTION:10 AM Fairbury Senior Center\n\n2 PM Beatrice Senior Center\n\n\n\n\n\nMary Ann Holland a University of Nebraska-Lincoln Extension educator and SHIIP volunteer will explain all areas of Medicare\, discuss Medicare Supplement Insurance\, Medicare Advantage plans\, as well as strategy for choosing prescription drug coverage.
X-ALT-DESC;FMTTYPE=text/html:10 AM Fairbury Senior Center<br />\n2 PM Beatrice Senior Center<br />\n<br />\n<br />\nMary Ann Holland a University of Nebraska-Lincoln Extension educator and SHIIP volunteer will explain all areas of Medicare\, discuss Medicare Supplement Insurance\, Medicare Advantage plans\, as well as strategy for choosing prescription drug coverage.<br />\n<br />\n
LOCATION:
UID:e.41.5107
SEQUENCE:3
DTSTAMP:20260424T123324Z
URL:https://business.beatricechamber.com/events/details/understanding-your-medicare-benefits-hosted-by-aseracare-hospice-09-20-2011-5107
END:VEVENT

END:VCALENDAR
