BEGIN:VCALENDAR
VERSION:2.0
PRODID:-//ChamberMaster//Event Calendar 2.0//EN
METHOD:PUBLISH
X-PUBLISHED-TTL:P3D
REFRESH-INTERVAL:P3D
CALSCALE:GREGORIAN
BEGIN:VEVENT
DTSTART:20091215T233000Z
DTEND:20091216T010000Z
X-MICROSOFT-CDO-ALLDAYEVENT:FALSE
SUMMARY:United Way Annual Meeting
DESCRIPTION:Gage County United Way will be holding its annual meeting at 5:30 pmTuesday\, December 15thGarden Room at Beatrice Community Hopital and Health Center
X-ALT-DESC;FMTTYPE=text/html:<div>Gage County United Way will be holding its annual meeting at 5:30 pm</div><div>Tuesday\, December 15th</div><div>Garden Room at Beatrice Community Hopital and Health Center</div><div>&nbsp\;</div>
LOCATION:
UID:e.41.1559
SEQUENCE:3
DTSTAMP:20260425T194335Z
URL:https://business.beatricechamber.com/events/details/united-way-annual-meeting-12-15-2009-1559
END:VEVENT

END:VCALENDAR
