BEGIN:VCALENDAR
VERSION:2.0
PRODID:-//ChamberMaster//Event Calendar 2.0//EN
METHOD:PUBLISH
X-PUBLISHED-TTL:P3D
REFRESH-INTERVAL:P3D
CALSCALE:GREGORIAN
BEGIN:VEVENT
DTSTART:20090906T130000Z
DTEND:20090906T180000Z
X-MICROSOFT-CDO-ALLDAYEVENT:FALSE
SUMMARY:United Way Pancake Feed
DESCRIPTION:Gage County United Way will kick off its annual fundraising campaign with a pancake feed on Labor Day Weekend.j The pancake feed will be from 8 am - 1 pmSunday\, September 6thAmerican Legion Hall701 Dorsey St\, Beatrice Free Will donation wll be accepted
X-ALT-DESC;FMTTYPE=text/html:<div>Gage County United Way will kick off its annual fundraising campaign with a pancake feed on Labor Day Weekend.j</div><div>&nbsp\;</div><div>The pancake feed will be from 8 am - 1 pm</div><div>Sunday\, September 6th</div><div>American Legion Hall</div><div>701&nbsp\;Dorsey St\, Beatrice</div><div>&nbsp\;</div><div>Free Will donation wll be accepted</div><div>&nbsp\;</div><div>&nbsp\;</div>
LOCATION:
UID:e.41.1425
SEQUENCE:3
DTSTAMP:20260425T233304Z
URL:https://business.beatricechamber.com/events/details/united-way-pancake-feed-09-06-2009-1425
END:VEVENT

END:VCALENDAR
