BEGIN:VCALENDAR
VERSION:2.0
PRODID:-//ChamberMaster//Event Calendar 2.0//EN
METHOD:PUBLISH
X-PUBLISHED-TTL:P3D
REFRESH-INTERVAL:P3D
CALSCALE:GREGORIAN
BEGIN:VEVENT
DTSTART:20120812T003000Z
DTEND:20120812T003000Z
X-MICROSOFT-CDO-ALLDAYEVENT:FALSE
SUMMARY:Urinetown: The Musical
DESCRIPTION:Community Players Theatre\, 412 Ella St.\, Beatrice. Young Adult Theatre project.\n\n\n\nTickets: $10 adults\, $5 students.\n\n\n\nFor tickets call 402-228-1801 noon to 5:30 p.m. M-F or online at www.beatricecommunityplayers.com
X-ALT-DESC;FMTTYPE=text/html:Community Players Theatre\, 412 Ella St.\, Beatrice. Young Adult Theatre project.<br />\n<br />\nTickets: $10 adults\, $5 students.<br />\n<br />\nFor tickets call 402-228-1801 noon to 5:30 p.m. M-F or online at www.beatricecommunityplayers.com
LOCATION:
UID:e.41.6598
SEQUENCE:3
DTSTAMP:20260422T100406Z
URL:https://business.beatricechamber.com/events/details/urinetown-the-musical-08-11-2012-6598
END:VEVENT

END:VCALENDAR
