BEGIN:VCALENDAR
VERSION:2.0
PRODID:-//ChamberMaster//Event Calendar 2.0//EN
METHOD:PUBLISH
X-PUBLISHED-TTL:P3D
REFRESH-INTERVAL:P3D
CALSCALE:GREGORIAN
BEGIN:VEVENT
DTSTART:20111124T160000Z
DTEND:20111125T000000Z
X-MICROSOFT-CDO-ALLDAYEVENT:FALSE
SUMMARY:Used Book Sale
DESCRIPTION:Burwood Books supports the Mother to Mother Ministry program
X-ALT-DESC;FMTTYPE=text/html:Burwood Books supports the Mother to Mother Ministry program
LOCATION:111 South 5th Street Beatrice\, NE 68310
UID:e.41.4429
SEQUENCE:3
DTSTAMP:20260424T100012Z
URL:https://business.beatricechamber.com/events/details/used-book-sale-11-24-2011-4429
END:VEVENT

END:VCALENDAR
