BEGIN:VCALENDAR
VERSION:2.0
PRODID:-//ChamberMaster//Event Calendar 2.0//EN
METHOD:PUBLISH
X-PUBLISHED-TTL:P3D
REFRESH-INTERVAL:P3D
CALSCALE:GREGORIAN
BEGIN:VEVENT
DTSTART;VALUE=DATE:20120706
DTEND;VALUE=DATE:20120709
TRANSP:TRANSPARENT
X-MICROSOFT-CDO-ALLDAYEVENT:TRUE
SUMMARY:USSSA State Baseball Tournament
DESCRIPTION:USSSA State Baseball Tournaments\nThe Beatrice Bullets would like to ensure that our fine local businesses are all aware that we will again be hosting two USSSA State Baseball Tournaments during June 29-July 1\, and July 6-8. We know you will make our guests to town feel welcome. Each tournament should consist of about 20 teams each. Feel free to come out and catch some baseball these weekends\, games will be at West Scott Fields all day Friday\, all day Saturday\, and into mid-afternoon on Sunday. There is no gate/entry fee.
X-ALT-DESC;FMTTYPE=text/html:<p style="margin: 0in 0in 0pt">\n	<font size="3"><strong><span style="font-family: 'Arial'\, 'sans-serif'\; color: #857458">USSSA State Baseball Tournaments</span></strong><span style="font-family: 'Arial'\, 'sans-serif'\; color: #857458\; font-size: 10pt"><o:p></o:p></span></font></p>\n<span style="font-family: 'Arial'\, 'sans-serif'\; color: #857458\; font-size: 10pt\; mso-fareast-font-family: 'Times New Roman'\; mso-ansi-language: EN-US\; mso-fareast-language: EN-US\; mso-bidi-language: AR-SA"><font face="Arial">The Beatrice Bullets would like to ensure that our fine local businesses are all aware that we will again be hosting two USSSA State Baseball Tournaments during June 29-July 1\, and July 6-8. We know you will make our guests to town feel welcome.&nbsp\;Each tournament should consist of about 20 teams each. Feel free to come out and catch some baseball these weekends\, games will be at West Scott Fields all day Friday\, all day Saturday\, and into mid-afternoon on Sunday. There is no gate/entry fee.</font></span>
LOCATION:
UID:e.41.6294
SEQUENCE:3
DTSTAMP:20260422T113831Z
URL:https://business.beatricechamber.com/events/details/usssa-state-baseball-tournament-07-06-2012-6294
END:VEVENT

END:VCALENDAR
