BEGIN:VCALENDAR
VERSION:2.0
PRODID:-//ChamberMaster//Event Calendar 2.0//EN
METHOD:PUBLISH
X-PUBLISHED-TTL:P3D
REFRESH-INTERVAL:P3D
CALSCALE:GREGORIAN
BEGIN:VEVENT
DTSTART;VALUE=DATE:20100211
DTEND;VALUE=DATE:20100212
TRANSP:TRANSPARENT
X-MICROSOFT-CDO-ALLDAYEVENT:TRUE
SUMMARY:Valentine Dinner & Dance
DESCRIPTION:Valentine Dinner and DanceHosted by The Beatrice Senior Center Thursday\, February 11101 N 25th StreetBeatrice\, NE Supper will be served at 5:30 p.m. - menu includes chicken cordon bleu\, baked potato\, green beans with bacon\, lettuce salad\, roll and cherry cheesecake. Dancing to follow to "The Variety Boys" Cost is $5 per person Reservations should be made at least one day prior by calling 402-223-1357
X-ALT-DESC;FMTTYPE=text/html:<div><span style="font-size: medium">Valentine Dinner and Dance</span></div><div><span style="font-size: medium">Hosted by The Beatrice Senior Center</span></div><div>&nbsp\;</div><div><span style="font-size: medium">Thursday\, February 11</span></div><div><span style="font-size: medium">101 N 25th Street</span></div><div><span style="font-size: medium">Beatrice\, NE</span></div><div>&nbsp\;</div><div><span style="font-size: small">Supper will be served at 5:30 p.m. - menu includes chicken cordon bleu\, baked potato\, green beans with bacon\, lettuce salad\, roll and cherry cheesecake.</span></div><div>&nbsp\;</div><div><span style="font-size: small">Dancing to follow to &quot\;The Variety Boys&quot\;</span></div><div>&nbsp\;</div><div><span style="font-size: small">Cost is $5 per person</span></div><div>&nbsp\;</div><div><span style="font-size: small">Reservations should be made at least one day prior by calling 402-223-1357</span></div>
LOCATION:
UID:e.41.1613
SEQUENCE:3
DTSTAMP:20260425T164456Z
URL:https://business.beatricechamber.com/events/details/valentine-dinner-dance-02-11-2010-1613
END:VEVENT

END:VCALENDAR
