BEGIN:VCALENDAR
VERSION:2.0
PRODID:-//ChamberMaster//Event Calendar 2.0//EN
METHOD:PUBLISH
X-PUBLISHED-TTL:P3D
REFRESH-INTERVAL:P3D
CALSCALE:GREGORIAN
BEGIN:VEVENT
DTSTART;VALUE=DATE:20110210
DTEND;VALUE=DATE:20110211
TRANSP:TRANSPARENT
X-MICROSOFT-CDO-ALLDAYEVENT:TRUE
SUMMARY:Valentine Supper & Dance
DESCRIPTION:Valentine Supper & Dance\n\n\n\nThursday\, February 10\n\n5:30 p.m.\n\n\n\nBeatrice Senior Center\n\n\n\nMusic by Jim Hinz and the Hayseed Cowboys.  Cost:  $5 each.
X-ALT-DESC;FMTTYPE=text/html:Valentine Supper &amp\; Dance<br />\n<br />\nThursday\, February 10<br />\n5:30 p.m.<br />\n<br />\nBeatrice Senior Center<br />\n<br />\nMusic by Jim Hinz and the Hayseed Cowboys.&nbsp\; Cost:&nbsp\; $5 each.
LOCATION:
UID:e.41.3495
SEQUENCE:3
DTSTAMP:20260424T225520Z
URL:https://business.beatricechamber.com/events/details/valentine-supper-dance-02-10-2011-3495
END:VEVENT

END:VCALENDAR
